BEGIN:VCALENDAR
VERSION:2.0
PRODID:-//Hospizgemeinschaft Arche-Noah Hochtaunus - ECPv6.15.18//NONSGML v1.0//EN
CALSCALE:GREGORIAN
METHOD:PUBLISH
X-ORIGINAL-URL:https://hospizgemeinschaft-arche-noah.de
X-WR-CALDESC:Veranstaltungen für Hospizgemeinschaft Arche-Noah Hochtaunus
REFRESH-INTERVAL;VALUE=DURATION:PT1H
X-Robots-Tag:noindex
X-PUBLISHED-TTL:PT1H
BEGIN:VTIMEZONE
TZID:Europe/Berlin
BEGIN:DAYLIGHT
TZOFFSETFROM:+0100
TZOFFSETTO:+0200
TZNAME:CEST
DTSTART:20240331T010000
END:DAYLIGHT
BEGIN:STANDARD
TZOFFSETFROM:+0200
TZOFFSETTO:+0100
TZNAME:CET
DTSTART:20241027T010000
END:STANDARD
BEGIN:DAYLIGHT
TZOFFSETFROM:+0100
TZOFFSETTO:+0200
TZNAME:CEST
DTSTART:20250330T010000
END:DAYLIGHT
BEGIN:STANDARD
TZOFFSETFROM:+0200
TZOFFSETTO:+0100
TZNAME:CET
DTSTART:20251026T010000
END:STANDARD
BEGIN:DAYLIGHT
TZOFFSETFROM:+0100
TZOFFSETTO:+0200
TZNAME:CEST
DTSTART:20260329T010000
END:DAYLIGHT
BEGIN:STANDARD
TZOFFSETFROM:+0200
TZOFFSETTO:+0100
TZNAME:CET
DTSTART:20261025T010000
END:STANDARD
END:VTIMEZONE
BEGIN:VEVENT
DTSTART;TZID=Europe/Berlin:20250919T190000
DTEND;TZID=Europe/Berlin:20250919T190000
DTSTAMP:20260420T031541
CREATED:20250207T101617Z
LAST-MODIFIED:20250207T101620Z
UID:2111-1758308400-1758308400@hospizgemeinschaft-arche-noah.de
SUMMARY:Jubiläumsveranstaltung - 25 Jahre Hospizgemeinschaft Arche Noah Hochtaunus e.V.
DESCRIPTION:
URL:https://hospizgemeinschaft-arche-noah.de/event/jubilaeumsveranstaltung-25-jahre-hospizgemeinschaft-arche-noah-hochtaunus-e-v/
LOCATION:Gemeindezentrum Königstein im Taunus\, Georg-Pingler-Straße 26\, Königstein im Taunus\, 61462\, Deutschland
END:VEVENT
END:VCALENDAR